BEGIN:VCALENDAR
VERSION:2.0
PRODID:-//jworldannapolis.com - ECPv6.15.18//NONSGML v1.0//EN
CALSCALE:GREGORIAN
METHOD:PUBLISH
X-WR-CALNAME:jworldannapolis.com
X-ORIGINAL-URL:https://jworldannapolis.com
X-WR-CALDESC:Events for jworldannapolis.com
REFRESH-INTERVAL;VALUE=DURATION:PT1H
X-Robots-Tag:noindex
X-PUBLISHED-TTL:PT1H
BEGIN:VTIMEZONE
TZID:America/New_York
BEGIN:DAYLIGHT
TZOFFSETFROM:-0500
TZOFFSETTO:-0400
TZNAME:EDT
DTSTART:20200308T070000
END:DAYLIGHT
BEGIN:STANDARD
TZOFFSETFROM:-0400
TZOFFSETTO:-0500
TZNAME:EST
DTSTART:20201101T060000
END:STANDARD
BEGIN:DAYLIGHT
TZOFFSETFROM:-0500
TZOFFSETTO:-0400
TZNAME:EDT
DTSTART:20210314T070000
END:DAYLIGHT
BEGIN:STANDARD
TZOFFSETFROM:-0400
TZOFFSETTO:-0500
TZNAME:EST
DTSTART:20211107T060000
END:STANDARD
BEGIN:DAYLIGHT
TZOFFSETFROM:-0500
TZOFFSETTO:-0400
TZNAME:EDT
DTSTART:20220313T070000
END:DAYLIGHT
BEGIN:STANDARD
TZOFFSETFROM:-0400
TZOFFSETTO:-0500
TZNAME:EST
DTSTART:20221106T060000
END:STANDARD
BEGIN:DAYLIGHT
TZOFFSETFROM:-0500
TZOFFSETTO:-0400
TZNAME:EDT
DTSTART:20230312T070000
END:DAYLIGHT
BEGIN:STANDARD
TZOFFSETFROM:-0400
TZOFFSETTO:-0500
TZNAME:EST
DTSTART:20231105T060000
END:STANDARD
BEGIN:DAYLIGHT
TZOFFSETFROM:-0500
TZOFFSETTO:-0400
TZNAME:EDT
DTSTART:20240310T070000
END:DAYLIGHT
BEGIN:STANDARD
TZOFFSETFROM:-0400
TZOFFSETTO:-0500
TZNAME:EST
DTSTART:20241103T060000
END:STANDARD
BEGIN:DAYLIGHT
TZOFFSETFROM:-0500
TZOFFSETTO:-0400
TZNAME:EDT
DTSTART:20250309T070000
END:DAYLIGHT
BEGIN:STANDARD
TZOFFSETFROM:-0400
TZOFFSETTO:-0500
TZNAME:EST
DTSTART:20251102T060000
END:STANDARD
END:VTIMEZONE
BEGIN:VEVENT
DTSTART;TZID=America/New_York:20241003T080000
DTEND;TZID=America/New_York:20241006T170000
DTSTAMP:20260421T205826
CREATED:20240905T002152Z
LAST-MODIFIED:20240905T002256Z
UID:10000653-1727942400-1728234000@jworldannapolis.com
SUMMARY:Annapolis Powerboat show October 3-6
DESCRIPTION:Come visit us at our booth at the 2024 Annapolis Powerboat show October 3-6\, 2024\n\n\n\n	Related
URL:https://jworldannapolis.com/course/annapolis-powerboat-show-october-3-6/
LOCATION:J World Annapolis\, 213 Eastern Avenue\, Annapolis\, MD\, 21403\, United States
ORGANIZER;CN="J World Annapolis":MAILTO:admin@jportinc.com
GEO:38.9693041;-76.4778326
X-APPLE-STRUCTURED-LOCATION;VALUE=URI;X-ADDRESS=J World Annapolis 213 Eastern Avenue Annapolis MD 21403 United States;X-APPLE-RADIUS=500;X-TITLE=213 Eastern Avenue:geo:-76.4778326,38.9693041
END:VEVENT
BEGIN:VEVENT
DTSTART;TZID=America/New_York:20240914T090000
DTEND;TZID=America/New_York:20240915T160000
DTSTAMP:20260421T205826
CREATED:20240807T143709Z
LAST-MODIFIED:20240807T143820Z
UID:10000641-1726304400-1726416000@jworldannapolis.com
SUMMARY:Performance Sailing with Asymmetric Spinnaker Handling 2-Day
DESCRIPTION:The Performance Sailing with Asymmetric Spinnaker 2-Day course is designed to teach you how to make a sailboat go fast efficiently both upwind using techniques such as VMG and Target Boat Speed using Polar diagrams and downwind flying an Asymmetric Spinnaker.  This course is a great steppingstone to prepare you for our Race Boat Training course where you will learn advanced skills such as race start timing tactics\, efficient upwind/downwind sailing and mark rounding tactics and more Asymmetric spinnaker flying\, trimming and dousing skills. \nPrerequisites? \nThe course is appropriate for any graduate of the Basic Keelboat certification course or any sailor who has had no formal sailing education but has at least a few years of sailing experience on keelboats. \nWhat will I learn? \nFiner points of shaping of sails for various wind conditions and how to make a sailboat go fast!  You will also learn more advanced skills such as reading a Polar Diagram for a J80\, how to sail the fastest and most efficient course using Velocity Made Good (VMG) and Target Boat Speed for sailing both upwind and downwind.   You will also spend time learning how to make a sailboat sail faster downwind flying an Asymmetric Spinnaker. \nHow will I spend my time? \nThis 2-day class runs from 9:00am until 4:00pm each day.  You will spend approximately 1 hour each day in a classroom or dockside discussion and the rest of the time will be spent on the water on our J80 sport keelboat learning and practicing the skills taught during the classroom sessions. \nHow do I register? \nCall 410-280-2040 and talk to our in-house staff to get scheduled into a class. \nWhat should I bring? \nComfortable weather appropriate clothing\, athletic shoes\, hat\, sunglasses and plenty of fluids to stay hydrated. \nPrice:  $625 \n\n\n	Related
URL:https://jworldannapolis.com/course/performance-sailing-with-asymmetric-spinnaker-handling-2-day/
LOCATION:J World Annapolis\, 213 Eastern Avenue\, Annapolis\, MD\, 21403\, United States
CATEGORIES:Performance Sailing
ORGANIZER;CN="J World Annapolis":MAILTO:admin@jportinc.com
GEO:38.9693041;-76.4778326
X-APPLE-STRUCTURED-LOCATION;VALUE=URI;X-ADDRESS=J World Annapolis 213 Eastern Avenue Annapolis MD 21403 United States;X-APPLE-RADIUS=500;X-TITLE=213 Eastern Avenue:geo:-76.4778326,38.9693041
END:VEVENT
BEGIN:VEVENT
DTSTART;TZID=America/New_York:20240831T090000
DTEND;TZID=America/New_York:20240901T160000
DTSTAMP:20260421T205826
CREATED:20240807T143313Z
LAST-MODIFIED:20240807T143313Z
UID:10000640-1725094800-1725206400@jworldannapolis.com
SUMMARY:Performance Sailing 2-Day
DESCRIPTION:The Performance Sailing 2-Day course is designed to provide more detail on how to shape and trim sails for performance.  This class will concentrate on boat handling under sail to include refining how to shape the sails for light\, moderate and heavy wind using various sail controls that are standard on a J80 sailboat. \nPrerequisites? \nThe course is appropriate for any graduate of the Basic Keelboat certification course or any sailor who has had no formal sailing education but has at least a few years of sailing experience on keelboats. \nWhat will I learn? \nFiner points of shaping of sails for various wind conditions and how to make a sailboat go fast!  You will learn about terms such as Angle of Attack\, Draft and Twist and how various controls on the boat shape your sails for efficient sailing in any wind.  You will also learn about True and Apparent wind and how to read telltales on the sails to keep your boat sailing as efficiently as possible. \nYou will learn techniques on how to “shift gears” on a sailboat to get the boat moving in first gear\, sail fast in second gear and point closer to the wind in third gear. \nThis course is also a good stepping stone to prepare you to take our 2-Day Spinnaker course where you will spend both days learning how to make a sailboat sail faster upwind using various tools and techniques and how to sail faster downwind flying an Asymmetric Spinnaker. \nHow will I spend my time? \nThis 2-day class runs from 9:00am until 4:00pm each day.  You will spend approximately 1 hour each day in a classroom or dockside discussion and the rest of the time will be spent on the water on our J80 sport keelboat learning and practicing the skills taught during the classroom sessions. \nHow do I register? \nCall 410-280-2040 and talk to our in-house staff to get scheduled into a class. \nWhat should I bring? \nComfortable weather appropriate clothing\, athletic shoes\, hat\, sunglasses and plenty of fluids to stay hydrated. \nPrice:  $625 \n\n\n	Related
URL:https://jworldannapolis.com/course/performance-sailing-2-day/
LOCATION:J World Annapolis\, 213 Eastern Avenue\, Annapolis\, MD\, 21403\, United States
CATEGORIES:Performance Sailing
ORGANIZER;CN="J World Annapolis":MAILTO:admin@jportinc.com
GEO:38.9693041;-76.4778326
X-APPLE-STRUCTURED-LOCATION;VALUE=URI;X-ADDRESS=J World Annapolis 213 Eastern Avenue Annapolis MD 21403 United States;X-APPLE-RADIUS=500;X-TITLE=213 Eastern Avenue:geo:-76.4778326,38.9693041
END:VEVENT
BEGIN:VEVENT
DTSTART;TZID=America/New_York:20240715T090000
DTEND;TZID=America/New_York:20240719T160000
DTSTAMP:20260421T205826
CREATED:20210702T180850Z
LAST-MODIFIED:20240307T203524Z
UID:10000218-1721034000-1721404800@jworldannapolis.com
SUMMARY:Kids on Keelboats
DESCRIPTION:The fun way to learn to sail!\nWhether your child has done any dinghy sailing or has never set foot on a boat\, J World Annapolis’ Kids on Keelboats is a great introduction to the joy of sailing keelboats. \nWe take our normal content-rich Basic Keelboat course and adapt it to engage and challenge both seasoned Opti sailors as well as first timers.  Taught aboard our fast\, fun and safe J/80’s\, the Kids on Keelboats course is alll about sailing and fun! \nWho should take this course? \nOur Kids on Keelboats course is designed for 12-18 year-olds.  This course is the start of the US Sailing certification process and is a prerequisite to all other U.S. Sailing certifications.  No experience is necessary to take this course\, but seaoned Opti sailors find it challenging and worthwhile too! \nWhat will the kids learn? \nThe course is focused on developing wind awareness\, sail trim\, boat handling\, seamanship\, navigation and general sailing skills.   \nCan the kids earn a US Sailing Certification? \nYES!  This course is the first step in the US Sailing Certification series of courses.  There are both written and practical test components of this course.  But don’t worry\, the test is REALLY easy if you listen to your coaches! \nHow will the kids spend their time? \nKids on Keelboats is a five-day course  runs from 9AM to 4PM each day.  Just a little bit of classroom (tent) discussion kicks off each morning and the rest of the time is spent on the water sailing!  \nClick HERE  to Register! \n  \n\n\n	Related
URL:https://jworldannapolis.com/course/kids-on-keelboats/
LOCATION:J World Annapolis\, 213 Eastern Avenue\, Annapolis\, MD\, 21403\, United States
ORGANIZER;CN="J World Annapolis":MAILTO:admin@jportinc.com
GEO:38.9693041;-76.4778326
X-APPLE-STRUCTURED-LOCATION;VALUE=URI;X-ADDRESS=J World Annapolis 213 Eastern Avenue Annapolis MD 21403 United States;X-APPLE-RADIUS=500;X-TITLE=213 Eastern Avenue:geo:-76.4778326,38.9693041
END:VEVENT
BEGIN:VEVENT
DTSTART;TZID=America/New_York:20240420T090000
DTEND;TZID=America/New_York:20240421T160000
DTSTAMP:20260421T205826
CREATED:20220215T203125Z
LAST-MODIFIED:20240415T115200Z
UID:10000458-1713603600-1713715200@jworldannapolis.com
SUMMARY:Performance Sailing 2-Day
DESCRIPTION:Our intermediate level courses are designed for sailors familiar with the basics who are looking to expand their keelboat skills and confidence to move into either cruising or racing.  If you have already completed some sailing education or spent time on the water already\, this course will help you learn to analyze\, adjust and shape your sails for maximum speed in all points of sail. This course brings your keelboat sailing skills to a new level without moving up to a bigger boat.  We employ such innovative techniques as steering with weight and sails to help you learn the “feel” of sailing.  You will rotate among all the positions onboard throughout your course. \nPrerequisites? \nThis course is designed for people who have some keelboat sailing experience and are comfortable on sailboats. \nWhat will I learn? \nYou will learn the finer points of boat handling and sail trim for all points of sail.  For example – upwind\, you will focus on how to adjust the boat’s back stay and jib leads for optimum performance.  Downwind\, you’ll perfect hoisting and trimming a spinnaker as well as how to drive through a gybe with accuracy. \nCertification? \nA Basic Keelboat curriculum and is built into the curriculum\, and you may opt to challenge for the certification by passing the written exam and on-water competencies.  The course also comes with a certificate of completion from J World Annapolis. \nHow will I spend my time? \nThis two-day class runs from 9:00 am to 4:00 pm.  You’ll spend some classroom time with lectures to examine pertinent sailing topics\, then spend the remainder of your day out on the water. \nWhat should I bring? \nComfortable weather appropriate clothing\, athletic shoes\, and plenty of fluids to stay hydrated. \nPrice:  $625 \nEnroll Now! \n  \n\n\n	Related
URL:https://jworldannapolis.com/course/performance-sailing-five-day-2/
LOCATION:Online with GoToMeeting\, 213 Eastern Avenue\, Annapolis\, MD\, 21403\, United States
CATEGORIES:Performance Sailing
ORGANIZER;CN="J World Annapolis":MAILTO:admin@jportinc.com
GEO:38.96929;-76.4777609
X-APPLE-STRUCTURED-LOCATION;VALUE=URI;X-ADDRESS=Online with GoToMeeting 213 Eastern Avenue Annapolis MD 21403 United States;X-APPLE-RADIUS=500;X-TITLE=213 Eastern Avenue:geo:-76.4777609,38.96929
END:VEVENT
BEGIN:VEVENT
DTSTART;TZID=America/New_York:20240406T100000
DTEND;TZID=America/New_York:20240406T120000
DTSTAMP:20260421T205826
CREATED:20230726T170525Z
LAST-MODIFIED:20240307T194503Z
UID:10000550-1712397600-1712404800@jworldannapolis.com
SUMMARY:First Sail
DESCRIPTION:Fun\, Easy & Exciting – Start Sailing NOW!\nWe want to introduce you to the great sport of sailing!  J World Annapolis’ Three-Hour First Sail group sail makes for a fun excursion and easy\, affordable way to find out if sailing is for you. \nCome for this Three-Hour group sail for a morning or afternoon session and bring your friends\, too.  Step aboard one of our J/80’s and begin your sailing adventure on the Chesapeake Bay.  It even makes for a great double date! \nWho should take this course?\nEVERYONE! Anyone who has ever wondered whether they would like to be a sailor or is interested in seeing Annapolis from the water should join us for this three hour sailing experience. \nPre-requisites?\nNone – we are ready for the complete novice! \nWhat will I learn?\nYou will learn how to identify where the wind is coming from\, how to trim the sails to the wind and steer the boat through fundamental boat handling maneuvers such as tacking and gybing.  The course is built around safety\, fun and learning! \nCertification?\nThe course come with a certificate of completion from J World Annapolis\, which also includes a coupon for discounts on a future course! \nHow will I spend my time?\nAfter a brief introduction and PDF-fitting\, you’ll head straight to the boat where your coach will take you on a guided “tour” of the boat\, and walk you through some basic steps to leave the slip.  And then\, you’re off and sailing! \nWhat should I bring?\nComfortable weather appropriate clothing\, athletic shoes\, and plenty of fluids to stay hydrated. \nHow do I register?\nSessions are 3 hours and can be any time from 9am-4pm. Call 410-280-2040 or email admin@jportinc.com for more information or to register! \nPrice:  $199 per person\,  (minimum 2 people\, maximum 4 people) \n\n\n	Related
URL:https://jworldannapolis.com/course/first-sail-2/
LOCATION:J World Annapolis\, 213 Eastern Avenue\, Annapolis\, MD\, 21403\, United States
CATEGORIES:First Sail
ORGANIZER;CN="J World Annapolis":MAILTO:admin@jportinc.com
GEO:38.9693041;-76.4778326
X-APPLE-STRUCTURED-LOCATION;VALUE=URI;X-ADDRESS=J World Annapolis 213 Eastern Avenue Annapolis MD 21403 United States;X-APPLE-RADIUS=500;X-TITLE=213 Eastern Avenue:geo:-76.4778326,38.9693041
END:VEVENT
BEGIN:VEVENT
DTSTART;TZID=America/New_York:20210615T090000
DTEND;TZID=America/New_York:20210619T160000
DTSTAMP:20260421T205826
CREATED:20210402T123056Z
LAST-MODIFIED:20210402T131606Z
UID:10000205-1623747600-1624118400@jworldannapolis.com
SUMMARY:Racing 5-Day - Leukemia Cup
DESCRIPTION:We will work on boathandling\, sail trim and spinnaker handling during the first part of the week and then move on to starting and boat against boat speed and tactical drills.  We finish the week with a round-the-buoys regatta against your classmates!  Upon completion of this course\, you will have the skills and confidence to compete successfully as skipper or crew in your local and regional PHRF and one-design events.  Prerequisites: You should have the ability to confidently sail a boat on your own with a complete understanding of fundamental sailing theory. \nThe course is suitable for graduates of our Learn to Sail 4 or 5 day courses\, our Performance Cruising course\, as well as anyone with US Sailing Basic Keelboat Certification. \n\n\n	Related
URL:https://jworldannapolis.com/course/racing-5-day-leukemia-cup/
LOCATION:J World Annapolis\, 213 Eastern Avenue\, Annapolis\, MD\, 21403\, United States
CATEGORIES:Racing
ATTACH;FMTTYPE=image/jpeg:https://jworldannapolis.com/wp-content/uploads/2012/07/Racing.jpg
ORGANIZER;CN="J World Annapolis":MAILTO:admin@jportinc.com
GEO:38.9693041;-76.4778326
X-APPLE-STRUCTURED-LOCATION;VALUE=URI;X-ADDRESS=J World Annapolis 213 Eastern Avenue Annapolis MD 21403 United States;X-APPLE-RADIUS=500;X-TITLE=213 Eastern Avenue:geo:-76.4778326,38.9693041
END:VEVENT
END:VCALENDAR