BEGIN:VCALENDAR
VERSION:2.0
PRODID:-//jworldannapolis.com - ECPv6.15.18//NONSGML v1.0//EN
CALSCALE:GREGORIAN
METHOD:PUBLISH
X-WR-CALNAME:jworldannapolis.com
X-ORIGINAL-URL:https://jworldannapolis.com
X-WR-CALDESC:Events for jworldannapolis.com
REFRESH-INTERVAL;VALUE=DURATION:PT1H
X-Robots-Tag:noindex
X-PUBLISHED-TTL:PT1H
BEGIN:VTIMEZONE
TZID:America/New_York
BEGIN:DAYLIGHT
TZOFFSETFROM:-0500
TZOFFSETTO:-0400
TZNAME:EDT
DTSTART:20250309T070000
END:DAYLIGHT
BEGIN:STANDARD
TZOFFSETFROM:-0400
TZOFFSETTO:-0500
TZNAME:EST
DTSTART:20251102T060000
END:STANDARD
BEGIN:DAYLIGHT
TZOFFSETFROM:-0500
TZOFFSETTO:-0400
TZNAME:EDT
DTSTART:20260308T070000
END:DAYLIGHT
BEGIN:STANDARD
TZOFFSETFROM:-0400
TZOFFSETTO:-0500
TZNAME:EST
DTSTART:20261101T060000
END:STANDARD
BEGIN:DAYLIGHT
TZOFFSETFROM:-0500
TZOFFSETTO:-0400
TZNAME:EDT
DTSTART:20270314T070000
END:DAYLIGHT
BEGIN:STANDARD
TZOFFSETFROM:-0400
TZOFFSETTO:-0500
TZNAME:EST
DTSTART:20271107T060000
END:STANDARD
END:VTIMEZONE
BEGIN:VEVENT
DTSTART;TZID=America/New_York:20260318T180000
DTEND;TZID=America/New_York:20260318T210000
DTSTAMP:20260421T050304
CREATED:20221031T141607Z
LAST-MODIFIED:20251110T170432Z
UID:10000811-1773856800-1773867600@jworldannapolis.com
SUMMARY:ONLINE SEMINAR - Navionics App
DESCRIPTION:Navionics App \nThis seminar will provide you with an overview of the basic features of the Navionics App for smartphones and tablets.  Some of the features that will be covered in this seminar are: How to subscribe to Navionics maps and load them onto your device\, how to search for locations such as marinas\, restaurants and anchorages\, how to set water level depth shading and shallow areas\, how to view weather\, tides & currents information\, how to create routes using waypoints\, how to record and save tracks from a passage\, how to find your boat on the map\, how to measure distance between two points\, how to download maps for offline use\, and much…much more. \nThis course will be online so you will need access to the internet.  Additionally you need to have the Navionics App downloaded and installed on your smartphone or tablet device prior to the seminar in order to participate in this Hands-On Seminar.  \nOnce registered\, you’ll be invoiced and receive an access code for the event once payment has been made. \nCourse Tuition: $90 \nRegister Here
URL:https://jworldannapolis.com/course/online-seminar-navionics-app-3/2026-03-18/
LOCATION:Online with GoToMeeting\, 213 Eastern Avenue\, Annapolis\, MD\, 21403\, United States
CATEGORIES:Seminars
ATTACH;FMTTYPE=image/jpeg:https://jworldannapolis.com/wp-content/uploads/2015/03/Navionics.jpg
ORGANIZER;CN="J World Annapolis":MAILTO:admin@jportinc.com
GEO:38.96929;-76.4777609
X-APPLE-STRUCTURED-LOCATION;VALUE=URI;X-ADDRESS=Online with GoToMeeting 213 Eastern Avenue Annapolis MD 21403 United States;X-APPLE-RADIUS=500;X-TITLE=213 Eastern Avenue:geo:-76.4777609,38.96929
END:VEVENT
END:VCALENDAR