BEGIN:VCALENDAR
VERSION:2.0
PRODID:-//jworldannapolis.com - ECPv6.15.18//NONSGML v1.0//EN
CALSCALE:GREGORIAN
METHOD:PUBLISH
X-WR-CALNAME:jworldannapolis.com
X-ORIGINAL-URL:https://jworldannapolis.com
X-WR-CALDESC:Events for jworldannapolis.com
REFRESH-INTERVAL;VALUE=DURATION:PT1H
X-Robots-Tag:noindex
X-PUBLISHED-TTL:PT1H
BEGIN:VTIMEZONE
TZID:America/New_York
BEGIN:DAYLIGHT
TZOFFSETFROM:-0500
TZOFFSETTO:-0400
TZNAME:EDT
DTSTART:20250309T070000
END:DAYLIGHT
BEGIN:STANDARD
TZOFFSETFROM:-0400
TZOFFSETTO:-0500
TZNAME:EST
DTSTART:20251102T060000
END:STANDARD
BEGIN:DAYLIGHT
TZOFFSETFROM:-0500
TZOFFSETTO:-0400
TZNAME:EDT
DTSTART:20260308T070000
END:DAYLIGHT
BEGIN:STANDARD
TZOFFSETFROM:-0400
TZOFFSETTO:-0500
TZNAME:EST
DTSTART:20261101T060000
END:STANDARD
BEGIN:DAYLIGHT
TZOFFSETFROM:-0500
TZOFFSETTO:-0400
TZNAME:EDT
DTSTART:20270314T070000
END:DAYLIGHT
BEGIN:STANDARD
TZOFFSETFROM:-0400
TZOFFSETTO:-0500
TZNAME:EST
DTSTART:20271107T060000
END:STANDARD
END:VTIMEZONE
BEGIN:VEVENT
DTSTART;TZID=America/New_York:20260204T180000
DTEND;TZID=America/New_York:20260204T210000
DTSTAMP:20260421T204853
CREATED:20241008T161651Z
LAST-MODIFIED:20251201T113929Z
UID:10000672-1770228000-1770238800@jworldannapolis.com
SUMMARY:Planning a Charter Sailing Vacation – Online Seminar
DESCRIPTION:For anybody interested in planning their own Charter Sailing Vacation\, this is the seminar for you! \nJ World Annapolis and the Chesapeake Boating Club have been hosting winter sailing vacations for their alumni and members for years and have lots of experience on planning these trips. This seminar will teach you all of the many details you need to consider when planning a trip of your own. You will learn topics like doing a Bareboat charter where you are the captain or doing a charter with a hired captain. Topics like what sailing location you wish to charter in and what are the local regulations for doing that. Information about various charter companies and differences between a catamaran or a monohull for your trip. How to prepare and submit your sailing resume to the charter company. How to plan for provisions\, sailing routes\, weather\, transportation to and from the airport. What tools you will use to navigate in an area you are not familiar with. All this and much more will be discussed during this seminar. \nCourse Tuition: $90 \nRegister Here \n  \n 
URL:https://jworldannapolis.com/course/planning-a-charter-sailing-vacation-online-seminar/
LOCATION:Online with GoToMeeting\, 213 Eastern Avenue\, Annapolis\, MD\, 21403\, United States
CATEGORIES:Seminars
ATTACH;FMTTYPE=image/jpeg:https://jworldannapolis.com/wp-content/uploads/2018/06/gustavia-saint-barthelemy.jpg
ORGANIZER;CN="J World Annapolis":MAILTO:admin@jportinc.com
GEO:38.96929;-76.4777609
X-APPLE-STRUCTURED-LOCATION;VALUE=URI;X-ADDRESS=Online with GoToMeeting 213 Eastern Avenue Annapolis MD 21403 United States;X-APPLE-RADIUS=500;X-TITLE=213 Eastern Avenue:geo:-76.4777609,38.96929
END:VEVENT
BEGIN:VEVENT
DTSTART;TZID=America/New_York:20260211T180000
DTEND;TZID=America/New_York:20260211T210000
DTSTAMP:20260421T204853
CREATED:20221031T141607Z
LAST-MODIFIED:20251110T170432Z
UID:10000668-1770832800-1770843600@jworldannapolis.com
SUMMARY:ONLINE SEMINAR - Navionics App
DESCRIPTION:Navionics App \nThis seminar will provide you with an overview of the basic features of the Navionics App for smartphones and tablets.  Some of the features that will be covered in this seminar are: How to subscribe to Navionics maps and load them onto your device\, how to search for locations such as marinas\, restaurants and anchorages\, how to set water level depth shading and shallow areas\, how to view weather\, tides & currents information\, how to create routes using waypoints\, how to record and save tracks from a passage\, how to find your boat on the map\, how to measure distance between two points\, how to download maps for offline use\, and much…much more. \nThis course will be online so you will need access to the internet.  Additionally you need to have the Navionics App downloaded and installed on your smartphone or tablet device prior to the seminar in order to participate in this Hands-On Seminar.  \nOnce registered\, you’ll be invoiced and receive an access code for the event once payment has been made. \nCourse Tuition: $90 \nRegister Here
URL:https://jworldannapolis.com/course/online-seminar-navionics-app-3/2026-02-11/
LOCATION:Online with GoToMeeting\, 213 Eastern Avenue\, Annapolis\, MD\, 21403\, United States
CATEGORIES:Seminars
ATTACH;FMTTYPE=image/jpeg:https://jworldannapolis.com/wp-content/uploads/2015/03/Navionics.jpg
ORGANIZER;CN="J World Annapolis":MAILTO:admin@jportinc.com
GEO:38.96929;-76.4777609
X-APPLE-STRUCTURED-LOCATION;VALUE=URI;X-ADDRESS=Online with GoToMeeting 213 Eastern Avenue Annapolis MD 21403 United States;X-APPLE-RADIUS=500;X-TITLE=213 Eastern Avenue:geo:-76.4777609,38.96929
END:VEVENT
BEGIN:VEVENT
DTSTART;TZID=America/New_York:20260218T180000
DTEND;TZID=America/New_York:20260218T200000
DTSTAMP:20260421T204853
CREATED:20241008T161247Z
LAST-MODIFIED:20251110T170141Z
UID:10000671-1771437600-1771444800@jworldannapolis.com
SUMMARY:USCG Nautical Rules of the Road Seminar – Online Seminar
DESCRIPTION:This seminar will cover the USCG Nautical Rules of the Road.  Whether a sailor or power boater\, this is essential knowledge that applies to all of us on navigable waters.  We will cover basic terms and definitions\, steering and sailing rules (both in normal and restricted visibility)\, right-of-way situations\, required day shapes\, light configurations (for boating at night)\, as well as required sound signals and distress signals.  The course outline is based on the USCG Navigation Rules and Regulations Handbook (recommended)\, but a copy of the book is not required to take the class. \nCourse Tuition: $60 \nRegister Here
URL:https://jworldannapolis.com/course/uscg-nautical-rules-of-the-road-seminar-online-seminar/
LOCATION:Online with GoToMeeting\, 213 Eastern Avenue\, Annapolis\, MD\, 21403\, United States
CATEGORIES:Seminars
ATTACH;FMTTYPE=image/jpeg:https://jworldannapolis.com/wp-content/uploads/2020/04/ROR2.jpg
ORGANIZER;CN="J World Annapolis":MAILTO:admin@jportinc.com
GEO:38.96929;-76.4777609
X-APPLE-STRUCTURED-LOCATION;VALUE=URI;X-ADDRESS=Online with GoToMeeting 213 Eastern Avenue Annapolis MD 21403 United States;X-APPLE-RADIUS=500;X-TITLE=213 Eastern Avenue:geo:-76.4777609,38.96929
END:VEVENT
BEGIN:VEVENT
DTSTART;TZID=America/New_York:20260225T180000
DTEND;TZID=America/New_York:20260225T200000
DTSTAMP:20260421T204853
CREATED:20201014T125059Z
LAST-MODIFIED:20251110T170312Z
UID:10000202-1772042400-1772049600@jworldannapolis.com
SUMMARY:ONLINE SEMINAR -VHF Radio Communications
DESCRIPTION:  \nThe VHF radio is one of the most important safety items we have on our boats.  This short seminar will help you understand and confidently use this important communication tool.  We will cover VHF radio strengths and limitations\, basic radio controls\, proper channel usage\, various routine and distress calls\, use of the USCG Rescue 21 system\, digital selective calling (DSC)\, proper radio language and etiquette\, and more. \nThis course will be online\, and there are no course materials necessary\, other than access to the internet.  Once registered\, you’ll be invoiced and receive an access code for the event once payment has been made. \nCourse Tuition: $60 \nRegister Here
URL:https://jworldannapolis.com/course/online-seminar-vhf-radio-communications/
LOCATION:Online with GoToMeeting\, 213 Eastern Avenue\, Annapolis\, MD\, 21403\, United States
CATEGORIES:Seminars
ATTACH;FMTTYPE=image/jpeg:https://jworldannapolis.com/wp-content/uploads/2020/04/Mounted-VHF-Radio-e1634158088111.jpg
ORGANIZER;CN="J World Annapolis":MAILTO:admin@jportinc.com
GEO:38.96929;-76.4777609
X-APPLE-STRUCTURED-LOCATION;VALUE=URI;X-ADDRESS=Online with GoToMeeting 213 Eastern Avenue Annapolis MD 21403 United States;X-APPLE-RADIUS=500;X-TITLE=213 Eastern Avenue:geo:-76.4777609,38.96929
END:VEVENT
END:VCALENDAR