BEGIN:VCALENDAR
VERSION:2.0
PRODID:-//jworldannapolis.com - ECPv6.15.18//NONSGML v1.0//EN
CALSCALE:GREGORIAN
METHOD:PUBLISH
X-ORIGINAL-URL:https://jworldannapolis.com
X-WR-CALDESC:Events for jworldannapolis.com
REFRESH-INTERVAL;VALUE=DURATION:PT1H
X-Robots-Tag:noindex
X-PUBLISHED-TTL:PT1H
BEGIN:VTIMEZONE
TZID:UTC
BEGIN:STANDARD
TZOFFSETFROM:+0000
TZOFFSETTO:+0000
TZNAME:UTC
DTSTART:20250101T000000
END:STANDARD
END:VTIMEZONE
BEGIN:VEVENT
DTSTART;TZID=UTC:20260725T090000
DTEND;TZID=UTC:20260726T160000
DTSTAMP:20260421T113409
CREATED:20250116T172149Z
LAST-MODIFIED:20251128T141316Z
UID:10000760-1784970000-1785081600@jworldannapolis.com
SUMMARY:Sailing Fundamentals
DESCRIPTION:Fun\, Easy\, Exciting – Start Sailing Now!\nJ World Annapolis’ Sailing Fundamentals course is the perfect way for you to start sailing today.  This two-day course is a great introduction for the person who wants to discover the exciting sport of sailing or become a more competent and helpful crew without committing to a full-length course.  Taught aboard our J/80’s\, our curriculum presents key elements of sailing including terminology\, steering and basic sail trim.  You will complete this class with the knowledge and confidence to competently crew or steer in protected waters in light to moderate conditions.    \nWho should take this course?\nEveryone! This course is the best way to get the basic knowledge required to become a capable crew member and discover sailing.  Whether you are new to sailing or returning to the sport\, this class gets you started on the right track. \nPrerequisites?\nNone! \nWhat will I learn?\nWind awareness\, points of sail\, solid boat handling including steering\, tacking and gybing\, sail controls\, docking and departing\, heaving to and how to stop while sailing. \nCertification?\nThe course comes with a certificate of completion from J World Annapolis.   While there is no US Sailing certification\, this course is the equivalent of the first two days of the US Sailing Basic Keelboat course\, and you may choose to continue your education to receive that certification by completing the additional training days on another weekend\, or during the week. \nHow will I spend my time?\nThis two-day class runs from 9:00 am to 4:00 pm.   One hour of classroom discussion kicks off each day and the rest of the time is spent on the water sailing. \nHow do I register?\nThis class is offered every weekend from April 1 to October 31\, and is also available on Monday and Tuesday of each week. Select a date and contact us via phone or email. \nWhat should I bring?\nComfortable weather-appropriate clothing\, athletic shoes\, and plenty of fluids to stay hydrated.  You’ll want to bring a bag lunch or order one from a local deli who will have it ready for you each morning of our course.   \nYou could take years ‘figuring out sailing’  – and still not know what you can learn in two short days in our fundamentals course.  Let this season be the year the sailing adventure began for you. \nStart the Adventure
URL:https://jworldannapolis.com/course/sailing-fundamentals-3/
LOCATION:J World Annapolis\, 213 Eastern Avenue\, Annapolis\, MD\, 21403\, United States
CATEGORIES:Sailing Fundamentals
ORGANIZER;CN="J World Annapolis":MAILTO:admin@jportinc.com
GEO:38.9693041;-76.4778326
X-APPLE-STRUCTURED-LOCATION;VALUE=URI;X-ADDRESS=J World Annapolis 213 Eastern Avenue Annapolis MD 21403 United States;X-APPLE-RADIUS=500;X-TITLE=213 Eastern Avenue:geo:-76.4778326,38.9693041
END:VEVENT
END:VCALENDAR