BEGIN:VCALENDAR
VERSION:2.0
PRODID:-//jworldannapolis.com - ECPv6.15.18//NONSGML v1.0//EN
CALSCALE:GREGORIAN
METHOD:PUBLISH
X-WR-CALNAME:jworldannapolis.com
X-ORIGINAL-URL:https://jworldannapolis.com
X-WR-CALDESC:Events for jworldannapolis.com
REFRESH-INTERVAL;VALUE=DURATION:PT1H
X-Robots-Tag:noindex
X-PUBLISHED-TTL:PT1H
BEGIN:VTIMEZONE
TZID:America/New_York
BEGIN:DAYLIGHT
TZOFFSETFROM:-0500
TZOFFSETTO:-0400
TZNAME:EDT
DTSTART:20250309T070000
END:DAYLIGHT
BEGIN:STANDARD
TZOFFSETFROM:-0400
TZOFFSETTO:-0500
TZNAME:EST
DTSTART:20251102T060000
END:STANDARD
BEGIN:DAYLIGHT
TZOFFSETFROM:-0500
TZOFFSETTO:-0400
TZNAME:EDT
DTSTART:20260308T070000
END:DAYLIGHT
BEGIN:STANDARD
TZOFFSETFROM:-0400
TZOFFSETTO:-0500
TZNAME:EST
DTSTART:20261101T060000
END:STANDARD
BEGIN:DAYLIGHT
TZOFFSETFROM:-0500
TZOFFSETTO:-0400
TZNAME:EDT
DTSTART:20270314T070000
END:DAYLIGHT
BEGIN:STANDARD
TZOFFSETFROM:-0400
TZOFFSETTO:-0500
TZNAME:EST
DTSTART:20271107T060000
END:STANDARD
END:VTIMEZONE
BEGIN:VEVENT
DTSTART;TZID=America/New_York:20260418T090000
DTEND;TZID=America/New_York:20260419T160000
DTSTAMP:20260420T090900
CREATED:20230725T160527Z
LAST-MODIFIED:20251128T135613Z
UID:10000604-1776502800-1776614400@jworldannapolis.com
SUMMARY:Basic Keelboat Weekend II
DESCRIPTION:Our basic keelboat/2-weekend format is designed for those who want a comprehensive Learn to Sail course but are unable to take a course with us on weekdays.\nUpon successful completion of Basic Keelboat\, graduates will have successfully demonstrated the ability to responsibly skipper and crew a simple day sailing keelboat in familiar waters in light to moderate wind and sea conditions.  This course is conducted onboard our high performing 26′ keelboats – J/80’s.  Your sessions can be scheduled for either consecutive weekends or at other intervals – making our two-weekend course the most flexible way for you to learn to sail.  For each weekend\, you will be placed onboard with others at the same progression level. \nBy taking this course\, we guarantee that you will acquire the skills and knowledge to pass the written and skill evaluation for US Sailing Basic Keelboat Certification.  If you do not pass during your course\, you may come back for makeup instruction and testing until you do at no additional charge. \nUS Sailing Standards \nSo who should take this class? \nEverybody interested in developing a strong sailing foundation while acquiring US Sailing’s Basic Keelboat Certification. \nHow will I spend my Time? \nThis course is held from 9:00 to 4:00 over the span of two weekends.  The weekends do not have to be sequential but is our recommendation to complete the two weekends as close together as possible. Total hours; 3 classroom\, 25 on the water. \nHow do I register? \nCall 410-280-2040 or email admin@jportinc.com for more information or click below to register! \nWhat should I bring? \nComfortable weather appropriate clothing\, athletic shoes\, and plenty of fluids to stay hydrated.  Lunch can be ordered from us or bring your own! \nPrice:  $1245 \nEnroll Now!
URL:https://jworldannapolis.com/course/basic-keelboat-weekend-ii/
LOCATION:J World Annapolis\, 213 Eastern Avenue\, Annapolis\, MD\, 21403\, United States
CATEGORIES:Basic Keelboat 2 weekend
ORGANIZER;CN="J World Annapolis":MAILTO:admin@jportinc.com
GEO:38.9693041;-76.4778326
X-APPLE-STRUCTURED-LOCATION;VALUE=URI;X-ADDRESS=J World Annapolis 213 Eastern Avenue Annapolis MD 21403 United States;X-APPLE-RADIUS=500;X-TITLE=213 Eastern Avenue:geo:-76.4778326,38.9693041
END:VEVENT
END:VCALENDAR